BEGIN:VCALENDAR
VERSION:2.0
PRODID:-//Filter Free Business - ECPv6.15.18//NONSGML v1.0//EN
CALSCALE:GREGORIAN
METHOD:PUBLISH
X-ORIGINAL-URL:https://filterfreebusiness.com
X-WR-CALDESC:Events for Filter Free Business
REFRESH-INTERVAL;VALUE=DURATION:PT1H
X-Robots-Tag:noindex
X-PUBLISHED-TTL:PT1H
BEGIN:VTIMEZONE
TZID:Europe/London
BEGIN:DAYLIGHT
TZOFFSETFROM:+0000
TZOFFSETTO:+0100
TZNAME:BST
DTSTART:20250330T010000
END:DAYLIGHT
BEGIN:STANDARD
TZOFFSETFROM:+0100
TZOFFSETTO:+0000
TZNAME:GMT
DTSTART:20251026T010000
END:STANDARD
BEGIN:DAYLIGHT
TZOFFSETFROM:+0000
TZOFFSETTO:+0100
TZNAME:BST
DTSTART:20260329T010000
END:DAYLIGHT
BEGIN:STANDARD
TZOFFSETFROM:+0100
TZOFFSETTO:+0000
TZNAME:GMT
DTSTART:20261025T010000
END:STANDARD
BEGIN:DAYLIGHT
TZOFFSETFROM:+0000
TZOFFSETTO:+0100
TZNAME:BST
DTSTART:20270328T010000
END:DAYLIGHT
BEGIN:STANDARD
TZOFFSETFROM:+0100
TZOFFSETTO:+0000
TZNAME:GMT
DTSTART:20271031T010000
END:STANDARD
END:VTIMEZONE
BEGIN:VEVENT
DTSTART;TZID=Europe/London:20260909T093000
DTEND;TZID=Europe/London:20260909T113000
DTSTAMP:20260420T120057
CREATED:20260120T130216Z
LAST-MODIFIED:20260228T142531Z
UID:373555-1788946200-1788953400@filterfreebusiness.com
SUMMARY:Friendly Co-working Session for Female Business Owners
DESCRIPTION:
URL:https://filterfreebusiness.com/event/friendly-co-working-session-for-female-business-owners-15/
LOCATION:The Pillar of Rock\, 15 Castle Street\, Bolsover\, S44 6PP\, 15 Castle Street\, Bolsover\, S44 6PP
CATEGORIES:Open to all
ATTACH;FMTTYPE=image/webp:https://filterfreebusiness.com/wp-content/uploads/2025/12/Monthly-Co-Working-Bolsover-Chesterfield.webp
END:VEVENT
BEGIN:VEVENT
DTSTART;TZID=Europe/London:20260918T093000
DTEND;TZID=Europe/London:20260918T113000
DTSTAMP:20260420T120057
CREATED:20260120T130544Z
LAST-MODIFIED:20260228T142531Z
UID:373557-1789723800-1789731000@filterfreebusiness.com
SUMMARY:Friendly Co-working Session for Female Business Owners
DESCRIPTION:
URL:https://filterfreebusiness.com/event/friendly-co-working-session-for-female-business-owners-16/
LOCATION:PoFfles Coffee & Cake Emporium\, 94A High Street\, Mansfield Woodhouse\, NG19 8BD\, 94A High Street\, Mansfield\, NG19 8BD
CATEGORIES:Open to all
ATTACH;FMTTYPE=image/webp:https://filterfreebusiness.com/wp-content/uploads/2025/12/Monthly-Co-Working-Mansfield-Woodhouse.webp
END:VEVENT
BEGIN:VEVENT
DTSTART;TZID=Europe/London:20260921T093000
DTEND;TZID=Europe/London:20260921T113000
DTSTAMP:20260420T120057
CREATED:20260120T130626Z
LAST-MODIFIED:20260228T142531Z
UID:373559-1789983000-1789990200@filterfreebusiness.com
SUMMARY:Monthly Meet Up - Networking & Training for Female Business Owners
DESCRIPTION:
URL:https://filterfreebusiness.com/event/monthly-meet-up-networking-training-for-female-business-owners-8/
LOCATION:Whitwell Community Centre\, Portland Street\, Whitwell\, S80 4NN\, Portland Street\, Whitwell\, S80 4NN
CATEGORIES:Open to all
ATTACH;FMTTYPE=image/webp:https://filterfreebusiness.com/wp-content/uploads/2025/12/Monthly-Meet-Up-Whitwell-S80-4NN.webp
END:VEVENT
END:VCALENDAR