BEGIN:VCALENDAR
VERSION:2.0
PRODID:-//Filter Free Business - ECPv6.15.18//NONSGML v1.0//EN
CALSCALE:GREGORIAN
METHOD:PUBLISH
X-WR-CALNAME:Filter Free Business
X-ORIGINAL-URL:https://filterfreebusiness.com
X-WR-CALDESC:Events for Filter Free Business
REFRESH-INTERVAL;VALUE=DURATION:PT1H
X-Robots-Tag:noindex
X-PUBLISHED-TTL:PT1H
BEGIN:VTIMEZONE
TZID:Europe/London
BEGIN:DAYLIGHT
TZOFFSETFROM:+0000
TZOFFSETTO:+0100
TZNAME:BST
DTSTART:20250330T010000
END:DAYLIGHT
BEGIN:STANDARD
TZOFFSETFROM:+0100
TZOFFSETTO:+0000
TZNAME:GMT
DTSTART:20251026T010000
END:STANDARD
BEGIN:DAYLIGHT
TZOFFSETFROM:+0000
TZOFFSETTO:+0100
TZNAME:BST
DTSTART:20260329T010000
END:DAYLIGHT
BEGIN:STANDARD
TZOFFSETFROM:+0100
TZOFFSETTO:+0000
TZNAME:GMT
DTSTART:20261025T010000
END:STANDARD
BEGIN:DAYLIGHT
TZOFFSETFROM:+0000
TZOFFSETTO:+0100
TZNAME:BST
DTSTART:20270328T010000
END:DAYLIGHT
BEGIN:STANDARD
TZOFFSETFROM:+0100
TZOFFSETTO:+0000
TZNAME:GMT
DTSTART:20271031T010000
END:STANDARD
END:VTIMEZONE
BEGIN:VEVENT
DTSTART;TZID=Europe/London:20260805T110000
DTEND;TZID=Europe/London:20260805T113000
DTSTAMP:20260421T172242
CREATED:20260228T143244Z
LAST-MODIFIED:20260228T143244Z
UID:373681-1785927600-1785929400@filterfreebusiness.com
SUMMARY:Monthly Social Media Planning Call
DESCRIPTION:
URL:https://filterfreebusiness.com/event/monthly-social-media-planning-call-aug2026/
LOCATION:Online
CATEGORIES:FFB Members Only
ATTACH;FMTTYPE=image/webp:https://filterfreebusiness.com/wp-content/uploads/2026/02/Monthly-Social-Media-Planning-Filter-Free-Business-Club.webp
END:VEVENT
BEGIN:VEVENT
DTSTART;TZID=Europe/London:20260724T093000
DTEND;TZID=Europe/London:20260724T113000
DTSTAMP:20260421T172242
CREATED:20260120T130137Z
LAST-MODIFIED:20260228T142531Z
UID:373553-1784885400-1784892600@filterfreebusiness.com
SUMMARY:Friendly Co-working Session for Female Business Owners
DESCRIPTION:
URL:https://filterfreebusiness.com/event/friendly-co-working-session-for-female-business-owners-14/
LOCATION:PoFfles Coffee & Cake Emporium\, 94A High Street\, Mansfield Woodhouse\, NG19 8BD\, 94A High Street\, Mansfield\, NG19 8BD
CATEGORIES:Open to all
ATTACH;FMTTYPE=image/webp:https://filterfreebusiness.com/wp-content/uploads/2025/12/Monthly-Co-Working-Mansfield-Woodhouse.webp
END:VEVENT
BEGIN:VEVENT
DTSTART;TZID=Europe/London:20260720T093000
DTEND;TZID=Europe/London:20260720T113000
DTSTAMP:20260421T172242
CREATED:20260120T130100Z
LAST-MODIFIED:20260228T142531Z
UID:373551-1784539800-1784547000@filterfreebusiness.com
SUMMARY:Monthly Meet Up - Networking & Training for Female Business Owners
DESCRIPTION:
URL:https://filterfreebusiness.com/event/monthly-meet-up-networking-training-for-female-business-owners-7/
LOCATION:Whitwell Community Centre\, Portland Street\, Whitwell\, S80 4NN\, Portland Street\, Whitwell\, S80 4NN
CATEGORIES:Open to all
ATTACH;FMTTYPE=image/webp:https://filterfreebusiness.com/wp-content/uploads/2025/12/Monthly-Meet-Up-Whitwell-S80-4NN.webp
END:VEVENT
BEGIN:VEVENT
DTSTART;TZID=Europe/London:20260713T093000
DTEND;TZID=Europe/London:20260713T113000
DTSTAMP:20260421T172242
CREATED:20260120T130019Z
LAST-MODIFIED:20260228T142531Z
UID:373549-1783935000-1783942200@filterfreebusiness.com
SUMMARY:Friendly Co-working Session for Female Business Owners
DESCRIPTION:
URL:https://filterfreebusiness.com/event/friendly-co-working-session-for-female-business-owners-13/
LOCATION:The Pillar of Rock\, 15 Castle Street\, Bolsover\, S44 6PP\, 15 Castle Street\, Bolsover\, S44 6PP
CATEGORIES:Open to all
ATTACH;FMTTYPE=image/webp:https://filterfreebusiness.com/wp-content/uploads/2025/12/Monthly-Co-Working-Bolsover-Chesterfield.webp
END:VEVENT
BEGIN:VEVENT
DTSTART;TZID=Europe/London:20260708T130000
DTEND;TZID=Europe/London:20260708T133000
DTSTAMP:20260421T172242
CREATED:20260228T143206Z
LAST-MODIFIED:20260228T143206Z
UID:373679-1783515600-1783517400@filterfreebusiness.com
SUMMARY:Monthly Social Media Planning Call
DESCRIPTION:
URL:https://filterfreebusiness.com/event/monthly-social-media-planning-call-jul2026/
LOCATION:Online
CATEGORIES:FFB Members Only
ATTACH;FMTTYPE=image/webp:https://filterfreebusiness.com/wp-content/uploads/2026/02/Monthly-Social-Media-Planning-Filter-Free-Business-Club.webp
END:VEVENT
BEGIN:VEVENT
DTSTART;TZID=Europe/London:20260622T093000
DTEND;TZID=Europe/London:20260622T113000
DTSTAMP:20260421T172242
CREATED:20260120T125944Z
LAST-MODIFIED:20260228T142531Z
UID:373547-1782120600-1782127800@filterfreebusiness.com
SUMMARY:Monthly Meet Up - Networking & Training for Female Business Owners
DESCRIPTION:
URL:https://filterfreebusiness.com/event/monthly-meet-up-networking-training-for-female-business-owners-6/
LOCATION:Whitwell Community Centre\, Portland Street\, Whitwell\, S80 4NN\, Portland Street\, Whitwell\, S80 4NN
CATEGORIES:Open to all
ATTACH;FMTTYPE=image/webp:https://filterfreebusiness.com/wp-content/uploads/2025/12/Monthly-Meet-Up-Whitwell-S80-4NN.webp
END:VEVENT
BEGIN:VEVENT
DTSTART;TZID=Europe/London:20260619T093000
DTEND;TZID=Europe/London:20260619T113000
DTSTAMP:20260421T172242
CREATED:20260120T125907Z
LAST-MODIFIED:20260228T142531Z
UID:373545-1781861400-1781868600@filterfreebusiness.com
SUMMARY:Friendly Co-working Session for Female Business Owners
DESCRIPTION:
URL:https://filterfreebusiness.com/event/friendly-co-working-session-for-female-business-owners-12/
LOCATION:PoFfles Coffee & Cake Emporium\, 94A High Street\, Mansfield Woodhouse\, NG19 8BD\, 94A High Street\, Mansfield\, NG19 8BD
CATEGORIES:Open to all
ATTACH;FMTTYPE=image/webp:https://filterfreebusiness.com/wp-content/uploads/2025/12/Monthly-Co-Working-Mansfield-Woodhouse.webp
END:VEVENT
BEGIN:VEVENT
DTSTART;TZID=Europe/London:20260610T130000
DTEND;TZID=Europe/London:20260610T133000
DTSTAMP:20260421T172242
CREATED:20260228T143127Z
LAST-MODIFIED:20260228T143127Z
UID:373677-1781096400-1781098200@filterfreebusiness.com
SUMMARY:Monthly Social Media Planning Call
DESCRIPTION:
URL:https://filterfreebusiness.com/event/monthly-social-media-planning-call-jun2026/
LOCATION:Online
CATEGORIES:FFB Members Only
ATTACH;FMTTYPE=image/webp:https://filterfreebusiness.com/wp-content/uploads/2026/02/Monthly-Social-Media-Planning-Filter-Free-Business-Club.webp
END:VEVENT
BEGIN:VEVENT
DTSTART;TZID=Europe/London:20260608T093000
DTEND;TZID=Europe/London:20260608T113000
DTSTAMP:20260421T172242
CREATED:20260120T125824Z
LAST-MODIFIED:20260228T142531Z
UID:373543-1780911000-1780918200@filterfreebusiness.com
SUMMARY:Friendly Co-working Session for Female Business Owners
DESCRIPTION:
URL:https://filterfreebusiness.com/event/friendly-co-working-session-for-female-business-owners-11/
LOCATION:The Pillar of Rock\, 15 Castle Street\, Bolsover\, S44 6PP\, 15 Castle Street\, Bolsover\, S44 6PP
CATEGORIES:Open to all
ATTACH;FMTTYPE=image/webp:https://filterfreebusiness.com/wp-content/uploads/2025/12/Monthly-Co-Working-Bolsover-Chesterfield.webp
END:VEVENT
BEGIN:VEVENT
DTSTART;TZID=Europe/London:20260522T093000
DTEND;TZID=Europe/London:20260522T113000
DTSTAMP:20260421T172242
CREATED:20260120T125736Z
LAST-MODIFIED:20260228T142531Z
UID:373541-1779442200-1779449400@filterfreebusiness.com
SUMMARY:Friendly Co-working Session for Female Business Owners
DESCRIPTION:
URL:https://filterfreebusiness.com/event/friendly-co-working-session-for-female-business-owners-10/
LOCATION:PoFfles Coffee & Cake Emporium\, 94A High Street\, Mansfield Woodhouse\, NG19 8BD\, 94A High Street\, Mansfield\, NG19 8BD
CATEGORIES:Open to all
ATTACH;FMTTYPE=image/webp:https://filterfreebusiness.com/wp-content/uploads/2025/12/Monthly-Co-Working-Mansfield-Woodhouse.webp
END:VEVENT
BEGIN:VEVENT
DTSTART;TZID=Europe/London:20260518T093000
DTEND;TZID=Europe/London:20260518T113000
DTSTAMP:20260421T172242
CREATED:20260120T125658Z
LAST-MODIFIED:20260228T142531Z
UID:373539-1779096600-1779103800@filterfreebusiness.com
SUMMARY:Monthly Meet Up - Networking & Training for Female Business Owners
DESCRIPTION:
URL:https://filterfreebusiness.com/event/monthly-meet-up-networking-training-for-female-business-owners-5/
LOCATION:Whitwell Community Centre\, Portland Street\, Whitwell\, S80 4NN\, Portland Street\, Whitwell\, S80 4NN
CATEGORIES:Open to all
ATTACH;FMTTYPE=image/webp:https://filterfreebusiness.com/wp-content/uploads/2025/12/Monthly-Meet-Up-Whitwell-S80-4NN.webp
END:VEVENT
BEGIN:VEVENT
DTSTART;TZID=Europe/London:20260513T130000
DTEND;TZID=Europe/London:20260513T133000
DTSTAMP:20260421T172242
CREATED:20260228T142921Z
LAST-MODIFIED:20260228T142921Z
UID:373675-1778677200-1778679000@filterfreebusiness.com
SUMMARY:Monthly Social Media Planning Call
DESCRIPTION:
URL:https://filterfreebusiness.com/event/monthly-social-media-planning-call-may2026/
LOCATION:Online
CATEGORIES:FFB Members Only
ATTACH;FMTTYPE=image/webp:https://filterfreebusiness.com/wp-content/uploads/2026/02/Monthly-Social-Media-Planning-Filter-Free-Business-Club.webp
END:VEVENT
BEGIN:VEVENT
DTSTART;TZID=Europe/London:20260511T093000
DTEND;TZID=Europe/London:20260511T113000
DTSTAMP:20260421T172242
CREATED:20260120T125508Z
LAST-MODIFIED:20260228T142551Z
UID:373534-1778491800-1778499000@filterfreebusiness.com
SUMMARY:Friendly Co-working Session for Female Business Owners
DESCRIPTION:
URL:https://filterfreebusiness.com/event/friendly-co-working-session-for-female-business-owners-9/
LOCATION:The Pillar of Rock\, 15 Castle Street\, Bolsover\, S44 6PP\, 15 Castle Street\, Bolsover\, S44 6PP
CATEGORIES:Open to all
ATTACH;FMTTYPE=image/webp:https://filterfreebusiness.com/wp-content/uploads/2025/12/Monthly-Co-Working-Bolsover-Chesterfield.webp
END:VEVENT
BEGIN:VEVENT
DTSTART;TZID=Europe/London:20260424T093000
DTEND;TZID=Europe/London:20260424T113000
DTSTAMP:20260421T172242
CREATED:20260120T125401Z
LAST-MODIFIED:20260228T142551Z
UID:373532-1777023000-1777030200@filterfreebusiness.com
SUMMARY:Friendly Co-working Session for Female Business Owners
DESCRIPTION:
URL:https://filterfreebusiness.com/event/friendly-co-working-session-for-female-business-owners-8/
LOCATION:PoFfles Coffee & Cake Emporium\, 94A High Street\, Mansfield Woodhouse\, NG19 8BD\, 94A High Street\, Mansfield\, NG19 8BD
CATEGORIES:Open to all
ATTACH;FMTTYPE=image/webp:https://filterfreebusiness.com/wp-content/uploads/2025/12/Monthly-Co-Working-Mansfield-Woodhouse.webp
END:VEVENT
BEGIN:VEVENT
DTSTART;TZID=Europe/London:20260420T093000
DTEND;TZID=Europe/London:20260420T113000
DTSTAMP:20260421T172242
CREATED:20260120T120020Z
LAST-MODIFIED:20260228T142551Z
UID:373511-1776677400-1776684600@filterfreebusiness.com
SUMMARY:Monthly Meet Up - Networking & Training for Female Business Owners
DESCRIPTION:
URL:https://filterfreebusiness.com/event/monthly-meet-up-networking-training-for-female-business-owners-3/
LOCATION:Whitwell Community Centre\, Portland Street\, Whitwell\, S80 4NN\, Portland Street\, Whitwell\, S80 4NN
CATEGORIES:Open to all
ATTACH;FMTTYPE=image/webp:https://filterfreebusiness.com/wp-content/uploads/2025/12/Monthly-Meet-Up-Whitwell-S80-4NN.webp
END:VEVENT
BEGIN:VEVENT
DTSTART;TZID=Europe/London:20260415T130000
DTEND;TZID=Europe/London:20260415T133000
DTSTAMP:20260421T172242
CREATED:20260228T142514Z
LAST-MODIFIED:20260228T142628Z
UID:373672-1776258000-1776259800@filterfreebusiness.com
SUMMARY:Monthly Social Media Planning Call
DESCRIPTION:
URL:https://filterfreebusiness.com/event/monthly-social-media-planning-call-2/
LOCATION:Online
CATEGORIES:FFB Members Only
ATTACH;FMTTYPE=image/webp:https://filterfreebusiness.com/wp-content/uploads/2026/02/Monthly-Social-Media-Planning-Filter-Free-Business-Club.webp
END:VEVENT
BEGIN:VEVENT
DTSTART;TZID=Europe/London:20260413T093000
DTEND;TZID=Europe/London:20260413T113000
DTSTAMP:20260421T172243
CREATED:20260120T120020Z
LAST-MODIFIED:20260228T142551Z
UID:373506-1776072600-1776079800@filterfreebusiness.com
SUMMARY:Friendly Co-working Session for Female Business Owners
DESCRIPTION:
URL:https://filterfreebusiness.com/event/friendly-co-working-session-for-female-business-owners-5/
LOCATION:The Pillar of Rock\, 15 Castle Street\, Bolsover\, S44 6PP\, 15 Castle Street\, Bolsover\, S44 6PP
CATEGORIES:Open to all
ATTACH;FMTTYPE=image/webp:https://filterfreebusiness.com/wp-content/uploads/2025/12/Monthly-Co-Working-Bolsover-Chesterfield.webp
END:VEVENT
BEGIN:VEVENT
DTSTART;TZID=Europe/London:20260323T093000
DTEND;TZID=Europe/London:20260323T113000
DTSTAMP:20260421T172243
CREATED:20260120T120021Z
LAST-MODIFIED:20260228T142551Z
UID:373501-1774258200-1774265400@filterfreebusiness.com
SUMMARY:Monthly Meet Up - Networking & Training for Female Business Owners
DESCRIPTION:
URL:https://filterfreebusiness.com/event/monthly-meet-up-networking-training-for-female-business-owners-4/
LOCATION:Whitwell Community Centre\, Portland Street\, Whitwell\, S80 4NN\, Portland Street\, Whitwell\, S80 4NN
CATEGORIES:Open to all
ATTACH;FMTTYPE=image/webp:https://filterfreebusiness.com/wp-content/uploads/2025/12/Monthly-Meet-Up-Whitwell-S80-4NN.webp
END:VEVENT
BEGIN:VEVENT
DTSTART;TZID=Europe/London:20260320T093000
DTEND;TZID=Europe/London:20260320T113000
DTSTAMP:20260421T172243
CREATED:20260120T120021Z
LAST-MODIFIED:20260228T142551Z
UID:373499-1773999000-1774006200@filterfreebusiness.com
SUMMARY:Friendly Co-working Session for Female Business Owners
DESCRIPTION:
URL:https://filterfreebusiness.com/event/friendly-co-working-session-for-female-business-owners-6/
LOCATION:PoFfles Coffee & Cake Emporium\, 94A High Street\, Mansfield Woodhouse\, NG19 8BD\, 94A High Street\, Mansfield\, NG19 8BD
CATEGORIES:Open to all
ATTACH;FMTTYPE=image/webp:https://filterfreebusiness.com/wp-content/uploads/2025/12/Monthly-Co-Working-Mansfield-Woodhouse.webp
END:VEVENT
BEGIN:VEVENT
DTSTART;TZID=Europe/London:20260318T130000
DTEND;TZID=Europe/London:20260318T133000
DTSTAMP:20260421T172243
CREATED:20260228T141834Z
LAST-MODIFIED:20260228T142618Z
UID:373667-1773838800-1773840600@filterfreebusiness.com
SUMMARY:Monthly Social Media Planning Call
DESCRIPTION:
URL:https://filterfreebusiness.com/event/monthly-social-media-planning-call/
LOCATION:Online
CATEGORIES:FFB Members Only
ATTACH;FMTTYPE=image/webp:https://filterfreebusiness.com/wp-content/uploads/2026/02/Monthly-Social-Media-Planning-Filter-Free-Business-Club.webp
END:VEVENT
BEGIN:VEVENT
DTSTART;TZID=Europe/London:20260309T093000
DTEND;TZID=Europe/London:20260309T113000
DTSTAMP:20260421T172243
CREATED:20260120T120032Z
LAST-MODIFIED:20260228T142551Z
UID:373494-1773048600-1773055800@filterfreebusiness.com
SUMMARY:Friendly Co-working Session for Female Business Owners
DESCRIPTION:
URL:https://filterfreebusiness.com/event/friendly-co-working-session-for-female-business-owners-7/
LOCATION:The Pillar of Rock\, 15 Castle Street\, Bolsover\, S44 6PP\, 15 Castle Street\, Bolsover\, S44 6PP
CATEGORIES:Open to all
ATTACH;FMTTYPE=image/webp:https://filterfreebusiness.com/wp-content/uploads/2025/12/Monthly-Co-Working-Bolsover-Chesterfield.webp
END:VEVENT
BEGIN:VEVENT
DTSTART;TZID=Europe/London:20260227T093000
DTEND;TZID=Europe/London:20260227T113000
DTSTAMP:20260421T172243
CREATED:20260119T143021Z
LAST-MODIFIED:20260228T142551Z
UID:373492-1772184600-1772191800@filterfreebusiness.com
SUMMARY:Friendly Co-working Session for Female Business Owners
DESCRIPTION:
URL:https://filterfreebusiness.com/event/friendly-co-working-session-for-female-business-owners-4/
LOCATION:PoFfles Coffee & Cake Emporium\, 94A High Street\, Mansfield Woodhouse\, NG19 8BD\, 94A High Street\, Mansfield\, NG19 8BD
CATEGORIES:Open to all
ATTACH;FMTTYPE=image/webp:https://filterfreebusiness.com/wp-content/uploads/2025/12/Monthly-Co-Working-Mansfield-Woodhouse.webp
END:VEVENT
BEGIN:VEVENT
DTSTART;TZID=Europe/London:20260223T093000
DTEND;TZID=Europe/London:20260223T113000
DTSTAMP:20260421T172243
CREATED:20260119T142400Z
LAST-MODIFIED:20260228T142551Z
UID:373486-1771839000-1771846200@filterfreebusiness.com
SUMMARY:Monthly Meet Up - Networking & Training for Female Business Owners
DESCRIPTION:
URL:https://filterfreebusiness.com/event/monthly-meet-up-networking-training-for-female-business-owners-2/
LOCATION:Whitwell Community Centre\, Portland Street\, Whitwell\, S80 4NN\, Portland Street\, Whitwell\, S80 4NN
CATEGORIES:Open to all
ATTACH;FMTTYPE=image/webp:https://filterfreebusiness.com/wp-content/uploads/2025/12/Monthly-Meet-Up-Whitwell-S80-4NN.webp
END:VEVENT
BEGIN:VEVENT
DTSTART;TZID=Europe/London:20260209T093000
DTEND;TZID=Europe/London:20260209T113000
DTSTAMP:20260421T172243
CREATED:20260119T142241Z
LAST-MODIFIED:20260228T142551Z
UID:373483-1770629400-1770636600@filterfreebusiness.com
SUMMARY:Friendly Co-working Session for Female Business Owners
DESCRIPTION:
URL:https://filterfreebusiness.com/event/friendly-co-working-session-for-female-business-owners-3/
LOCATION:The Pillar of Rock\, 15 Castle Street\, Bolsover\, S44 6PP\, 15 Castle Street\, Bolsover\, S44 6PP
CATEGORIES:Open to all
ATTACH;FMTTYPE=image/webp:https://filterfreebusiness.com/wp-content/uploads/2025/12/Monthly-Co-Working-Bolsover-Chesterfield.webp
END:VEVENT
BEGIN:VEVENT
DTSTART;TZID=Europe/London:20260205T093000
DTEND;TZID=Europe/London:20260205T123000
DTSTAMP:20260421T172243
CREATED:20260119T124517Z
LAST-MODIFIED:20260228T142551Z
UID:373477-1770283800-1770294600@filterfreebusiness.com
SUMMARY:Define Your Ideal Audience - Social Media Workshop
DESCRIPTION:
URL:https://filterfreebusiness.com/event/define-your-ideal-audience-social-media-workshop/
LOCATION:Derwent Avenue\, Mansfield\, NG18
CATEGORIES:Open to all
ATTACH;FMTTYPE=image/webp:https://filterfreebusiness.com/wp-content/uploads/2026/01/Define-Your-Ideal-Audience-Mansfield-35.webp
END:VEVENT
BEGIN:VEVENT
DTSTART;TZID=Europe/London:20260123T093000
DTEND;TZID=Europe/London:20260123T113000
DTSTAMP:20260421T172243
CREATED:20260119T124132Z
LAST-MODIFIED:20260228T142551Z
UID:373474-1769160600-1769167800@filterfreebusiness.com
SUMMARY:Friendly Co-working Session for Female Business Owners
DESCRIPTION:
URL:https://filterfreebusiness.com/event/friendly-co-working-session-for-female-business-owners-2/
LOCATION:PoFfles Coffee & Cake Emporium\, 94A High Street\, Mansfield Woodhouse\, NG19 8BD\, 94A High Street\, Mansfield\, NG19 8BD
CATEGORIES:Open to all
ATTACH;FMTTYPE=image/webp:https://filterfreebusiness.com/wp-content/uploads/2025/12/Monthly-Co-Working-Mansfield-Woodhouse.webp
END:VEVENT
BEGIN:VEVENT
DTSTART;TZID=Europe/London:20260119T093000
DTEND;TZID=Europe/London:20260119T113000
DTSTAMP:20260421T172243
CREATED:20251217T111645Z
LAST-MODIFIED:20260228T142641Z
UID:372766-1768815000-1768822200@filterfreebusiness.com
SUMMARY:Monthly Meet Up - Networking & Training for Female Business Owners
DESCRIPTION:
URL:https://filterfreebusiness.com/event/monthly-meet-up-networking-training-for-female-business-owners/
LOCATION:Whitwell Community Centre\, Portland Street\, Whitwell\, S80 4NN\, Portland Street\, Whitwell\, S80 4NN
CATEGORIES:Open to all
ATTACH;FMTTYPE=image/webp:https://filterfreebusiness.com/wp-content/uploads/2025/12/Monthly-Meet-Up-Whitwell-S80-4NN.webp
END:VEVENT
BEGIN:VEVENT
DTSTART;TZID=Europe/London:20260114T093000
DTEND;TZID=Europe/London:20260114T113000
DTSTAMP:20260421T172243
CREATED:20251217T111342Z
LAST-MODIFIED:20260228T142641Z
UID:372762-1768383000-1768390200@filterfreebusiness.com
SUMMARY:Friendly Co-working Session for Female Business Owners
DESCRIPTION:
URL:https://filterfreebusiness.com/event/friendly-co-working-session-for-female-business-owners-14-01-26/
LOCATION:PoFfles Coffee & Cake Emporium\, 94A High Street\, Mansfield Woodhouse\, NG19 8BD\, 94A High Street\, Mansfield\, NG19 8BD
CATEGORIES:Open to all
ATTACH;FMTTYPE=image/webp:https://filterfreebusiness.com/wp-content/uploads/2025/12/Monthly-Co-Working-Mansfield-Woodhouse.webp
END:VEVENT
BEGIN:VEVENT
DTSTART;TZID=Europe/London:20260108T093000
DTEND;TZID=Europe/London:20260108T113000
DTSTAMP:20260421T172243
CREATED:20251217T111039Z
LAST-MODIFIED:20260228T142641Z
UID:372756-1767864600-1767871800@filterfreebusiness.com
SUMMARY:Friendly Co-working Session for Female Business Owners
DESCRIPTION:
URL:https://filterfreebusiness.com/event/friendly-co-working-session-for-female-business-owners/
LOCATION:The Pillar of Rock\, 15 Castle Street\, Bolsover\, S44 6PP\, 15 Castle Street\, Bolsover\, S44 6PP
CATEGORIES:Open to all
ATTACH;FMTTYPE=image/webp:https://filterfreebusiness.com/wp-content/uploads/2025/12/Monthly-Co-Working-Bolsover-Chesterfield.webp
END:VEVENT
END:VCALENDAR