BEGIN:VCALENDAR
VERSION:2.0
PRODID:-//Filter Free Business - ECPv6.15.18//NONSGML v1.0//EN
CALSCALE:GREGORIAN
METHOD:PUBLISH
X-ORIGINAL-URL:https://filterfreebusiness.com
X-WR-CALDESC:Events for Filter Free Business
REFRESH-INTERVAL;VALUE=DURATION:PT1H
X-Robots-Tag:noindex
X-PUBLISHED-TTL:PT1H
BEGIN:VTIMEZONE
TZID:Europe/London
BEGIN:DAYLIGHT
TZOFFSETFROM:+0000
TZOFFSETTO:+0100
TZNAME:BST
DTSTART:20250330T010000
END:DAYLIGHT
BEGIN:STANDARD
TZOFFSETFROM:+0100
TZOFFSETTO:+0000
TZNAME:GMT
DTSTART:20251026T010000
END:STANDARD
BEGIN:DAYLIGHT
TZOFFSETFROM:+0000
TZOFFSETTO:+0100
TZNAME:BST
DTSTART:20260329T010000
END:DAYLIGHT
BEGIN:STANDARD
TZOFFSETFROM:+0100
TZOFFSETTO:+0000
TZNAME:GMT
DTSTART:20261025T010000
END:STANDARD
BEGIN:DAYLIGHT
TZOFFSETFROM:+0000
TZOFFSETTO:+0100
TZNAME:BST
DTSTART:20270328T010000
END:DAYLIGHT
BEGIN:STANDARD
TZOFFSETFROM:+0100
TZOFFSETTO:+0000
TZNAME:GMT
DTSTART:20271031T010000
END:STANDARD
END:VTIMEZONE
BEGIN:VEVENT
DTSTART;TZID=Europe/London:20260205T093000
DTEND;TZID=Europe/London:20260205T123000
DTSTAMP:20260421T130119
CREATED:20260119T124517Z
LAST-MODIFIED:20260228T142551Z
UID:373477-1770283800-1770294600@filterfreebusiness.com
SUMMARY:Define Your Ideal Audience - Social Media Workshop
DESCRIPTION:
URL:https://filterfreebusiness.com/event/define-your-ideal-audience-social-media-workshop/
LOCATION:Derwent Avenue\, Mansfield\, NG18
CATEGORIES:Open to all
ATTACH;FMTTYPE=image/webp:https://filterfreebusiness.com/wp-content/uploads/2026/01/Define-Your-Ideal-Audience-Mansfield-35.webp
END:VEVENT
END:VCALENDAR